BEGIN:VCALENDAR
VERSION:2.0
PRODID:-//Sylhet Amateur Radio Association - ECPv6.12.0//NONSGML v1.0//EN
CALSCALE:GREGORIAN
METHOD:PUBLISH
X-ORIGINAL-URL:https://s21sara.org
X-WR-CALDESC:Events for Sylhet Amateur Radio Association
REFRESH-INTERVAL;VALUE=DURATION:PT1H
X-Robots-Tag:noindex
X-PUBLISHED-TTL:PT1H
BEGIN:VTIMEZONE
TZID:Asia/Dhaka
BEGIN:STANDARD
TZOFFSETFROM:+0600
TZOFFSETTO:+0600
TZNAME:+06
DTSTART:20250101T000000
END:STANDARD
END:VTIMEZONE
BEGIN:VEVENT
DTSTART;TZID=Asia/Dhaka:20250520T110000
DTEND;TZID=Asia/Dhaka:20250520T150000
DTSTAMP:20260425T224842
CREATED:20250513T203958Z
LAST-MODIFIED:20250514T193651Z
UID:207-1747738800-1747753200@s21sara.org
SUMMARY:HAM Radio Awareness
DESCRIPTION:﻿﻿﻿Loading…
URL:https://s21sara.org/event/open-seminar-metropolitan-university/
LOCATION:Metropolitan University\, Sylhet Metropolitan University\, Sylhet\, Sylhet\, 3100\, Bangladesh
ATTACH;FMTTYPE=image/png:https://s21sara.org/wp-content/uploads/2025/05/470178332_122127444752564711_815470263210190599_n.png
ORGANIZER;CN="SARA":MAILTO:info@s21sara.org
END:VEVENT
END:VCALENDAR